Workbook
Name conti: 'INPUT CE'!$B$8:$B$621
Name dd: #REF!
Name Ind_Ser: #REF!
Name NewTable0: #REF!
Name PosteR: [1]POSTE_R_SANITARIO!$A$6:$C$49

Sheet INPUT CE
C1: 912
F6: CEPA T3 2022
C7: BEP 2022 | D7: CONSUNTIVO 2021 | E7: di cui Covid | F7: CEPA T3 2022 | G7: CEPA T3 2022 di cui COVID | H7: di cui COVID (gennaio-marzo 2022) | I7: DELTA su 2021
A8: ZZ9999 | B8: RISULTATO DI ESERCIZIO | C8: -1.1260302e+08 | D8: -37981590 | E8: -5776297.5 | F8: -92165911 | G8: =+G9-G612 -> -26427384 | H8: =H9-H612 -> -6465592.1 | I8: =F8-D8 -> -54184321
A9: XA0000 | B9: Risultato prima delle imposte (A - B +/- C +/- D +/- E) | C9: -93137024 | D9: -17771996 | E9: -4434330.3 | F9: -72258406 | G9: =+G10-G155+G530+G548+G551 -> -24904905 | H9: =ROUND(H10-H155+H530+H548+H551,2) -> -6153687.5 | I9: =F9-D9 -> -54486410
A10: AZ9999 | B10: Totale valore della produzione (A) | C10: 6.0071913e+08 | D10: 6.6641319e+08 | E10: 22828416 | F10: 6.2416618e+08 | G10: =+G11+G48+G51+G59+G116+G139+G143+G150+G151 -> 1637577.1 | H10: =ROUND(H11+H48+H51+H59+H116+H139+H143+H150+H151,2) -> -20973.64 | I10: =F10-D10 -> -42247008
A11: AA0010 | B11: A.1) Contributi in c/esercizio | C11: 100462313 | D11: 1.2689459e+08 | E11: 16657945 | F11: 86481512 | G11: =+G12+G25+G42+G47 -> 0 | H11: =ROUND(H12+H25+H42+H47,2) -> 0 | I11: =F11-D11 -> -40413076
A12: AA0020 | B12: A.1.A) Contributi da Regione o Prov. Aut. per quota F.S. regionale | C12: 99312313 | D12: 1.2170436e+08 | E12: 12910265 | F12: 85143024 | G12: =G13+G24 -> 0 | H12: =ROUND(H13+H24,2) -> 0 | I12: =F12-D12 -> -36561332
A13: AA0030 | B13: A.1.A.1) da Regione o Prov. Aut. per quota F.S. regionale indistinto | C13: 83046500 | D13: 1.1296407e+08 | E13: 12910265 | F13: 85143024 | G13: =+G14+G17+G20+G23 -> 0 | H13: =ROUND(H14+H17+H20+H23,2) -> 0 | I13: =F13-D13 -> -27821044
A14: AA0031 | B14: A.1.A.1.1) Finanziamento indistinto | C14: 0 | D14: 10526433 | E14: 0 | F14: 0 | G14: =+G15+G16 -> 0 | H14: =ROUND(H15+H16,2) -> 0 | I14: =F14-D14 -> -10526433
A15: AA0031a | B15: A.1.A.1.1.A) Finanziamento indistinto - quota capitaria | C15: 0 | D15: 0 | F15: 0 | I15: =F15-D15 -> 0
A16: AA0031b | B16: A.1.A.1.1.B) Finanziamento indistinto - altro | C16: 0 | D16: 10526433 | F16: 0 | I16: =F16-D16 -> -10526433
A17: AA0032 | B17: A.1.A.1.2) Finanziamento indistinto finalizzato da Regione | C17: 0 | D17: 19391135 | E17: 12910265 | F17: 2096523.8 | G17: =+G18+G19 -> 0 | H17: =ROUND(H18+H19,2) -> 0 | I17: =F17-D17 -> -17294611
A18: AA0032a | B18: A.1.A.1.2.A) Finanziamento indistinto finalizzato da Regione - per investimenti | C18: 0 | D18: 4826155 | F18: 0 | I18: =F18-D18 -> -4826155
A19: AA0032b | B19: A.1.A.1.2.B) Finanziamento indistinto finalizzato da Regione - vincolati GSA | C19: 0 | D19: 14564980 | E19: 12910265 | F19: 2096523.8 | I19: =F19-D19 -> -12468456
A20: AA0033 | B20: A.1.A.1.3) Funzioni | C20: 83046500 | D20: 83046500 | E20: 0 | F20: 83046500 | G20: =+G21+G22 -> 0 | H20: =ROUND(H21+H22,2) -> 0 | I20: =F20-D20 -> 0
A21: AA0034 | B21: A.1.A.1.3.A) Funzioni - Pronto Soccorso | C21: 8000000 | D21: 8000000 | F21: 8000000 | I21: =F21-D21 -> 0
A22: AA0035 | B22: A.1.A.1.3.B) Funzioni - Altro | C22: 75046500 | D22: 75046500 | F22: 75046500 | I22: =F22-D22 -> 0
A23: AA0036 | B23: A.1.A.1.4) Quota finalizzata per il Piano aziendale di cui all'art. 1, comma 528, L. 208/2015 | C23: 0 | D23: 0 | F23: 0 | I23: =F23-D23 -> 0
A24: AA0040 | B24: A.1.A.2) da Regione o Prov. Aut. per quota F.S. regionale vincolato | C24: 16265813 | D24: 8740288.3 | F24: 0 | I24: =F24-D24 -> -8740288.3
A25: AA0050 | B25: A.1.B) Contributi c/esercizio (extra fondo) | C25: 0 | D25: 3948176.9 | E25: 3637859.9 | F25: 100000 | G25: =+G26+G31+G34 -> 0 | H25: =ROUND(+H26+H31+H34,2) -> 0 | I25: =F25-D25 -> -3848176.9
A26: AA0060 | B26: A.1.B.1) da Regione o Prov. Aut. (extra fondo) | C26: 0 | D26: 207577 | E26: 0 | F26: 0 | G26: =+G27+G28+G29+G30 -> 0 | H26: =ROUND(+H27+H28+H29+H30,2) -> 0 | I26: =F26-D26 -> -207577
A27: AA0070 | B27: A.1.B.1.1) Contributi da Regione o Prov. Aut. (extra fondo) vincolati | C27: 0 | D27: 0 | F27: 0 | I27: =F27-D27 -> 0
A28: AA0080 | B28: A.1.B.1.2) Contributi da Regione o Prov. Aut. (extra fondo) - Risorse aggiuntive da bilancio regionale a titolo di copertura LEA | C28: 0 | D28: 0 | F28: 0 | I28: =F28-D28 -> 0
A29: AA0090 | B29: A.1.B.1.3) Contributi da Regione o Prov. Aut. (extra fondo) - Risorse aggiuntive da bilancio regionale a titolo di copertura extra LEA | C29: 0 | D29: 207577 | F29: 0 | I29: =F29-D29 -> -207577
A30: AA0100 | B30: A.1.B.1.4) Contributi da Regione o Prov. Aut. (extra fondo) - Altro | C30: 0 | D30: 0 | F30: 0 | I30: =F30-D30 -> 0
A31: AA0110 | B31: A.1.B.2) Contributi da Aziende sanitarie pubbliche della Regione o Prov. Aut. (extra fondo) | C31: 0 | D31: 0 | E31: 0 | F31: 0 | G31: =+G32+G33 -> 0 | H31: =ROUND(+H32+H33,2) -> 0 | I31: =F31-D31 -> 0
A32: AA0120 | B32: A.1.B.2.1) Contributi da Aziende sanitarie pubbliche della Regione o Prov. Aut. (extra fondo) vincolati | C32: 0 | D32: 0 | F32: 0 | I32: =F32-D32 -> 0
A33: AA0130 | B33: A.1.B.2.2) Contributi da Aziende sanitarie pubbliche della Regione o Prov. Aut. (extra fondo) altro | C33: 0 | D33: 0 | F33: 0 | I33: =F33-D33 -> 0
A34: AA0140 | B34: A.1.B.3) Contributi da Ministero della Salute e da altri soggetti pubblici (extra fondo) | C34: 0 | D34: 3740599.9 | E34: 3637859.9 | F34: 100000 | G34: =+G35+G36+G39+G40+G41 -> 0 | H34: =ROUND(+H35+H36+H39+H40+H41,2) -> 0 | I34: =F34-D34 -> -3640599.9
A35: AA0141 | B35: A.1.B.3.1) Contributi da Ministero della Salute (extra fondo) | C35: 0 | D35: 66140 | F35: 0 | I35: =F35-D35 -> -66140
A36: AA0150 | B36: A.1.B.3.2) Contributi da altri soggetti pubblici (extra fondo) vincolati | C36: 0 | D36: 3674459.9 | E36: 3637859.9 | F36: 100000 | G36: =+G37+G38 -> 0 | H36: =ROUND(H37+H38,2) -> 0 | I36: =F36-D36 -> -3574459.9
A37: AA0015a | B37: A.1.B.3.2.a) Contributi da altri soggetti pubblici (extra fondo) vincolati - PERIMETRO SANITA | C37: 0 | D37: 3567859.9 | E37: 3567859.9 | F37: 0 | I37: =F37-D37 -> -3567859.9
A38: AA0015b | B38: A.1.B.3.2.b) Contributi da altri soggetti pubblici (extra fondo) vincolati - PERIMETRO NO SANITA | C38: 0 | D38: 106600 | E38: 70000 | F38: 100000 | I38: =F38-D38 -> -6600
A39: AA0160 | B39: A.1.B.3.3) Contributi da altri soggetti pubblici (extra fondo) L. 210/92 | C39: 0 | D39: 0 | F39: 0 | I39: =F39-D39 -> 0
A40: AA0170 | B40: A.1.B.3.4) Contributi da altri soggetti pubblici (extra fondo) altro | C40: 0 | D40: 0 | F40: 0 | I40: =F40-D40 -> 0
A41: AA0171 | B41: A.1.B.3.5) Contributi da altri soggetti pubblici (extra fondo) - in attuazione dell’art.79, comma 1 sexies lettera c), del D.L. 112/2008, convertito con legge 133/2008 e della legge 23 dicembre 2009 n. 191 | C41: 0 | D41: 0 | F41: 0 | I41: =F41-D41 -> 0
A42: AA0180 | B42: A.1.C) Contributi c/esercizio per ricerca | C42: 650000 | D42: 658254.65 | E42: 0 | F42: 666750 | G42: =+G43+G44+G45+G46 -> 0 | H42: =ROUND(+H43+H44+H45+H46,2) -> 0 | I42: =F42-D42 -> 8495.35
A43: AA0190 | B43: A.1.C.1) Contributi da Ministero della Salute per ricerca corrente | C43: 0 | D43: 0 | F43: 0 | I43: =F43-D43 -> 0
A44: AA0200 | B44: A.1.C.2) Contributi da Ministero della Salute per ricerca finalizzata | C44: 0 | D44: 0 | F44: 0 | I44: =F44-D44 -> 0
...

Sheet Obiettivo programmato costo
C1: CONSUNTIVO 2021 | D1: CEPA T3 2022 | E1: Delta | F1: Delta%
A2: BZ9999 | B2: Totale costi della produzione (B) | C2: ='INPUT CE'!D155 -> 6.8139977e+08 | D2: ='INPUT CE'!F155 -> 6.958925e+08
A3: YZ9999 | B3: Totale imposte e tasse | C3: ='INPUT CE'!D612 -> 20209594 | D3: ='INPUT CE'!F612 -> 19907505
B4: Mobilità passiva | C4: =appoggio!C1 -> 0 | D4: =appoggio!E1 -> 0
B5: Ammortamenti | C5: ='INPUT CE'!D452 -> 29150613 | D5: ='INPUT CE'!F452 -> 32154126
B6: Variazione rimanenze | C6: ='INPUT CE'!D483 -> -718364.59 | D6: ='INPUT CE'!F483 -> -8261140.8
B7: Accantonamenti | C7: ='INPUT CE'!D500 -> 31824369 | D7: ='INPUT CE'!F500 -> 22744089
B8: Obiettivo costo programmato "grezzo" | C8: =C2+C3-C4-C5-C6-C7 -> 6.4135274e+08 | D8: =D2+D3-D4-D5-D6-D7 -> 6.6916293e+08 | E8: =D8-C8 -> 27810189 | F8: =E8/C8 -> 0.043361768
B9: Costi "energia" | C9: ='INPUT CE'!D192+'INPUT CE'!D351+'INPUT CE'!D356+'INPUT CE'!D357 -> 28053122 | D9: ='INPUT CE'!F192+'INPUT CE'!F351+'INPUT CE'!F356+'INPUT CE'!F357 -> 38020000
B10: Obiettivo costo programmato al netto energia | C10: =C8-C9 -> 6.1329962e+08 | D10: =D8-D9 -> 6.3114293e+08 | E10: =D10-C10 -> 17843311 | F10: =E10/C10 -> 0.029093954
B11: Polizza di assicurazione per la copertura del rischio di responsabilità civile verso terzi e prestatori d’opera (RCT/RCO) - Poste R | C11: 0 | D11: 1021523.8
B12: Variazione rimanenze beni covid consegnati da Azienda Zero | C12: 0 | D12: -4200000
B13: Obiettivo costo programmato al netto energia, poste R assicuraizone (RCT/RCO) e var. rimanenze beni Covid acquistati da azienda zero | C13: =C10-C11-C12 -> 6.1329962e+08 | D13: =D10-D11+D12 -> 6.2592141e+08 | E13: =D13-C13 -> 12621787 | F13: =E13/C13 -> 0.020580132
B14: Covid 3 mesi | C14: =('INPUT CE'!E155+'INPUT CE'!E612-'INPUT CE'!E500-'INPUT CE'!E483-'INPUT CE'!E452-appoggio!D1)/4 -> 7122536.8 | D14: ='INPUT CE'!H155+'INPUT CE'!H612-'INPUT CE'!H500-'INPUT CE'!H483-'INPUT CE'!H452-appoggio!F1 -> 6444618.4
B15: Obiettivo costo programmato "finale" | C15: =C13-C14 -> 6.0617708e+08 | D15: =D13-D14 -> 6.1947679e+08 | E15: =D15-C15 -> 13299706 | F15: =E15/C15 -> 0.021940298

Sheet appoggio
C1: =SUM(C3:C26) -> 0 | D1: =SUM(D3:D26) -> 0 | E1: =SUM(E3:E26) -> 0 | F1: =SUM(F3:F26) -> 0
C2: CONSUNTIVO 2021 | D2: di cui covid | E2: CEPA T3 2022 | F2: di cui covid (3 mesi)
A3: BA0061 | B3: BA0061 (B.1.A.1.4.1) Emoderivati di produzione regionale da pubblico (Aziende sanitarie pubbliche della Regione) Mobilità intraregionale) | C3: =VLOOKUP(A3,'INPUT CE'!$A$8:$D$621,4,FALSE) -> 0 | D3: =VLOOKUP(A3,'INPUT CE'!$A$8:$E$621,5,FALSE)/3 -> 0 | E3: =VLOOKUP(A3,'INPUT CE'!$A$8:$H$621,6,FALSE) -> 0 | F3: =VLOOKUP(A3,'INPUT CE'!$A$8:$H$621,8,FALSE) -> 0
A4: BA0062 | B4: BA0062 (B.1.A.1.4.2) Emoderivati di produzione regionale da pubblico (Aziend sanitarie pubbliche della Regione) - Mobilità extraregionale) | C4: =VLOOKUP(A4,'INPUT CE'!$A$8:$D$621,4,FALSE) -> 0 | D4: =VLOOKUP(A4,'INPUT CE'!$A$8:$E$621,5,FALSE) -> 0 | E4: =VLOOKUP(A4,'INPUT CE'!$A$8:$H$621,6,FALSE) -> 0 | F4: =VLOOKUP(A4,'INPUT CE'!$A$8:$H$621,8,FALSE) -> 0
A5: BA0470 | B5: BA0470 (B.2.A.1.2) - da pubblico (Aziende sanitarie pubbliche della Regione) - Mobilità intraregionale) | C5: =VLOOKUP(A5,'INPUT CE'!$A$8:$D$621,4,FALSE) -> 0 | D5: =VLOOKUP(A5,'INPUT CE'!$A$8:$E$621,5,FALSE) -> 0 | E5: =VLOOKUP(A5,'INPUT CE'!$A$8:$H$621,6,FALSE) -> 0 | F5: =VLOOKUP(A5,'INPUT CE'!$A$8:$H$621,8,FALSE) -> 0
A6: BA0480 | B6: BA0480 (B.2.A.1.3) - da pubblico (Aziende sanitarie pubbliche Extraregione) - Mobilità extraregionale) | C6: =VLOOKUP(A6,'INPUT CE'!$A$8:$D$621,4,FALSE) -> 0 | D6: =VLOOKUP(A6,'INPUT CE'!$A$8:$E$621,5,FALSE) -> 0 | E6: =VLOOKUP(A6,'INPUT CE'!$A$8:$H$621,6,FALSE) -> 0 | F6: =VLOOKUP(A6,'INPUT CE'!$A$8:$H$621,8,FALSE) -> 0
A7: BA0510 | B7: BA0510 (B.2.A.2.2) - da pubblico (Aziende sanitarie pubbliche della Regione)- Mobilità intraregionale) | C7: =VLOOKUP(A7,'INPUT CE'!$A$8:$D$621,4,FALSE) -> 0 | D7: =VLOOKUP(A7,'INPUT CE'!$A$8:$E$621,5,FALSE) -> 0 | E7: =VLOOKUP(A7,'INPUT CE'!$A$8:$H$621,6,FALSE) -> 0 | F7: =VLOOKUP(A7,'INPUT CE'!$A$8:$H$621,8,FALSE) -> 0
A8: BA0520 | B8: BA0520 (B.2.A.2.3) - da pubblico (Extraregione)) | C8: =VLOOKUP(A8,'INPUT CE'!$A$8:$D$621,4,FALSE) -> 0 | D8: =VLOOKUP(A8,'INPUT CE'!$A$8:$E$621,5,FALSE) -> 0 | E8: =VLOOKUP(A8,'INPUT CE'!$A$8:$H$621,6,FALSE) -> 0 | F8: =VLOOKUP(A8,'INPUT CE'!$A$8:$H$621,8,FALSE) -> 0
A9: BA0540 | B9: BA0540 (B.2.A.3.1) - da pubblico (Aziende sanitarie pubbliche della Regione)) | C9: =VLOOKUP(A9,'INPUT CE'!$A$8:$D$621,4,FALSE) -> 0 | D9: =VLOOKUP(A9,'INPUT CE'!$A$8:$E$621,5,FALSE) -> 0 | E9: =VLOOKUP(A9,'INPUT CE'!$A$8:$H$621,6,FALSE) -> 0 | F9: =VLOOKUP(A9,'INPUT CE'!$A$8:$H$621,8,FALSE) -> 0
A10: BA0541 | B10: BA0541 (B.2.A.3.2) prestazioni di pronto soccorso non seguite da ricovero - da pubblico (Aziende saniarie pubbliche della Regione)) | C10: =VLOOKUP(A10,'INPUT CE'!$A$8:$D$621,4,FALSE) -> 0 | D10: =VLOOKUP(A10,'INPUT CE'!$A$8:$E$621,5,FALSE) -> 0 | E10: =VLOOKUP(A10,'INPUT CE'!$A$8:$H$621,6,FALSE) -> 0 | F10: =VLOOKUP(A10,'INPUT CE'!$A$8:$H$621,8,FALSE) -> 0
A11: BA0560 | B11: BA0560 (B.2.A.3.5) - da pubblico (Extraregione)) | C11: =VLOOKUP(A11,'INPUT CE'!$A$8:$D$621,4,FALSE) -> 0 | D11: =VLOOKUP(A11,'INPUT CE'!$A$8:$E$621,5,FALSE) -> 0 | E11: =VLOOKUP(A11,'INPUT CE'!$A$8:$H$621,6,FALSE) -> 0 | F11: =VLOOKUP(A11,'INPUT CE'!$A$8:$H$621,8,FALSE) -> 0
A12: BA0561 | B12: BA0561 (B.2.A.3.6) prestazioni di pronto soccorso non seguite da ricovero - da pubblico (Extraregione)) | C12: =VLOOKUP(A12,'INPUT CE'!$A$8:$D$621,4,FALSE) -> 0 | D12: =VLOOKUP(A12,'INPUT CE'!$A$8:$E$621,5,FALSE) -> 0 | E12: =VLOOKUP(A12,'INPUT CE'!$A$8:$H$621,6,FALSE) -> 0 | F12: =VLOOKUP(A12,'INPUT CE'!$A$8:$H$621,8,FALSE) -> 0
A13: BA0650 | B13: BA0650 (B.2.A.4.1) - da pubblico (Aziende sanitarie pubbliche della Regione)) | C13: =VLOOKUP(A13,'INPUT CE'!$A$8:$D$621,4,FALSE) -> 0 | D13: =VLOOKUP(A13,'INPUT CE'!$A$8:$E$621,5,FALSE) -> 0 | E13: =VLOOKUP(A13,'INPUT CE'!$A$8:$H$621,6,FALSE) -> 0 | F13: =VLOOKUP(A13,'INPUT CE'!$A$8:$H$621,8,FALSE) -> 0
A14: BA0810 | B14: BA0810 (B.2.A.7.1) - da pubblico (Aziende sanitarie pubbliche della Regione)) | C14: =VLOOKUP(A14,'INPUT CE'!$A$8:$D$621,4,FALSE) -> 0 | D14: =VLOOKUP(A14,'INPUT CE'!$A$8:$E$621,5,FALSE) -> 0 | E14: =VLOOKUP(A14,'INPUT CE'!$A$8:$H$621,6,FALSE) -> 0 | F14: =VLOOKUP(A14,'INPUT CE'!$A$8:$H$621,8,FALSE) -> 0
A15: BA0830 | B15: BA0830 (B.2.A.7.3) - da pubblico (Extraregione)) | C15: =VLOOKUP(A15,'INPUT CE'!$A$8:$D$621,4,FALSE) -> 0 | D15: =VLOOKUP(A15,'INPUT CE'!$A$8:$E$621,5,FALSE) -> 0 | E15: =VLOOKUP(A15,'INPUT CE'!$A$8:$H$621,6,FALSE) -> 0 | F15: =VLOOKUP(A15,'INPUT CE'!$A$8:$H$621,8,FALSE) -> 0
... A26: BA1550 | B26: BA1550 (B.2.A.17) Costi GSA per differenziale saldo mobilità interregionale) | C26: =VLOOKUP(A26,'INPUT CE'!$A$8:$D$621,4,FALSE) -> 0 | D26: =VLOOKUP(A26,'INPUT CE'!$A$8:$E$621,5,FALSE) -> 0 | E26: =VLOOKUP(A26,'INPUT CE'!$A$8:$H$621,6,FALSE) -> 0 | F26: =VLOOKUP(A26,'INPUT CE'!$A$8:$H$621,8,FALSE) -> 0
